BEGIN:VCALENDAR
VERSION:2.0
PRODID:-//wp-events-plugin.com//7.2.3.1//EN
BEGIN:VEVENT
UID:4@sherbornesports.co.uk
DTSTART:20260927T090000Z
DTEND:20260927T120000Z
DTSTAMP:20260416T161335Z
URL:https://sherbornesports.co.uk/events/5k-run/
SUMMARY:5K RUN
DESCRIPTION:Sherborne Sports Centre 5K EventJoin us on 27 September 2026 fo
 r a community 5K event at Sherborne Sports Centre\, running from 9:00am to
  12:00pm. Open to all abilities\, this event is designed for runners\, jog
 gers\, and walkers looking to challenge themselves\, stay active\, and enj
 oy a great atmosphere. Whether you are aiming for a personal best or simpl
 y taking part for fun\, everyone is welcome.
END:VEVENT
END:VCALENDAR