BEGIN:VCALENDAR
VERSION:2.0
PRODID:-//wp-events-plugin.com//7.2.3.1//EN
BEGIN:VEVENT
UID:2@sherbornesports.co.uk
DTSTART:20260412T080000Z
DTEND:20260412T123000Z
DTSTAMP:20260310T164754Z
URL:https://sherbornesports.co.uk/events/juggernaut-half/
SUMMARY:JUGGERNAUT HALF
DESCRIPTION:\nEnter Here! - https://www.eventbrite.co.uk/e/the-juggernaut-h
 alf-by-sherborne-sports-centre-tickets-1981320318408?aff=oddtdtcreator\nPu
 sh your limits in a fast-paced fitness race combining strength\, cardio\, 
 and endurance. The challenge is designed for all levels — from beginners
  starting their fitness journey to experienced athletes looking for compet
 ition.\n\n\n\nTo prepare\, we offer an 4-week training block (2 sessions p
 er week) focused on improving fitness\, movement efficiency\, and techniqu
 e so you are ready for race day.\n\n\n\nTraining Block\n\n\n\n\nFree for S
 herborne Sports Centre members\n\n\n\nNon-members can add the training bl
 ock when purchasing tickets\n\n\n\nAlternatively call 01935 810548 or visi
 t reception to book\n\n\n\n\nRace Day Format Start times will be staggered
  by category to keep the event running smoothly and reduce congestion. Eac
 h competitor will receive a specific start time within their category slot
 .\n\n\n\n\nSTART TIMES MAY VARY DEPENDING ON PARTICIPANT QUANTITY\n\n\n\nT
 HE RACE FORMAT IS AS FOLLOWS:\n\n\n\n500m Run\n\n\n\n500M Row\n\n\n\n500m 
 run\n\n\n\n15 BB Shoulder to Overhead (Strict\, Push or Jerk) (M- 30kg / 
 F-20kg)\n\n\n\n500m run\n\n\n\n15 BB Deadlift (M- 60kg / F-40kg)\n\n\n\n5
 00m Run\n\n\n\nHand Release Press Ups (M-15 // F-10 full / 15 on knees)\n
 \n\n\n500m run\n\n\n\nBurpee Broad Jumps (40m - 1 length of sports hall)\
 n\n\n\n500m Run\n\n\n\nWalking Lunges (40m - 1 length of sports hall)\n\n
 \n\n500m run\n\n\n\n50 Wall balls (M- 6kg / F-4kg)\n
CATEGORIES:1
LOCATION:sherborne sports centre\, Acreman St\, Sherborne\, Dorset\, DT9 3A
 P\, United Kingdom
X-APPLE-STRUCTURED-LOCATION;VALUE=URI;X-ADDRESS=Acreman St\, Sherborne\, Do
 rset\, DT9 3AP\, United Kingdom;X-APPLE-RADIUS=100;X-TITLE=sherborne sport
 s centre:geo:0,0
END:VEVENT
END:VCALENDAR